BEGIN:VCALENDAR
VERSION:2.0
PRODID:-//Confartigianato Brescia - ECPv6.15.20//NONSGML v1.0//EN
CALSCALE:GREGORIAN
METHOD:PUBLISH
X-WR-CALNAME:Confartigianato Brescia
X-ORIGINAL-URL:https://www.confartigianato.bs.it
X-WR-CALDESC:Eventi per Confartigianato Brescia
REFRESH-INTERVAL;VALUE=DURATION:PT1H
X-Robots-Tag:noindex
X-PUBLISHED-TTL:PT1H
BEGIN:VTIMEZONE
TZID:Europe/Rome
BEGIN:DAYLIGHT
TZOFFSETFROM:+0100
TZOFFSETTO:+0200
TZNAME:CEST
DTSTART:20240331T010000
END:DAYLIGHT
BEGIN:STANDARD
TZOFFSETFROM:+0200
TZOFFSETTO:+0100
TZNAME:CET
DTSTART:20241027T010000
END:STANDARD
BEGIN:DAYLIGHT
TZOFFSETFROM:+0100
TZOFFSETTO:+0200
TZNAME:CEST
DTSTART:20250330T010000
END:DAYLIGHT
BEGIN:STANDARD
TZOFFSETFROM:+0200
TZOFFSETTO:+0100
TZNAME:CET
DTSTART:20251026T010000
END:STANDARD
BEGIN:DAYLIGHT
TZOFFSETFROM:+0100
TZOFFSETTO:+0200
TZNAME:CEST
DTSTART:20260329T010000
END:DAYLIGHT
BEGIN:STANDARD
TZOFFSETFROM:+0200
TZOFFSETTO:+0100
TZNAME:CET
DTSTART:20261025T010000
END:STANDARD
END:VTIMEZONE
BEGIN:VEVENT
DTSTART;TZID=Europe/Rome:20250603T170000
DTEND;TZID=Europe/Rome:20250612T210000
DTSTAMP:20260420T133125
CREATED:20250328T111941Z
LAST-MODIFIED:20260211T091305Z
UID:53582-1748970000-1749762000@www.confartigianato.bs.it
SUMMARY:Formazione • PRIMO SOCCORSO • Gruppi B - C
DESCRIPTION:Il corso Primo Soccorso Gruppo B e C è rivolto agli Addetti al Primo Soccorso di Aziende del: \n\nGruppo B: aziende o unità produttive con 3 o più lavoratori non rientranti nel Gruppo A.\nGruppo C: aziende o unità produttive con meno di 3 dipendenti non rientranti nel Gruppo A.\n\nObbiettivo del corso per Addetti al Primo Soccorso per Aziende Gruppo B/C è quello di adempiere agli obblighi formativi previsti dal D.Lgs. 81/08 e creare competenze trasferendo conoscenze e abilità per attuare procedure di Primo Soccorso in Azienda.
URL:https://www.confartigianato.bs.it/calendario-eventi/formazione-primo-soccorso-gruppi-b-c/
CATEGORIES:Corsi,Corsi di sicurezza
ATTACH;FMTTYPE=image/jpeg:https://www.confartigianato.bs.it/wp-content/uploads/2025/03/Base_primo-soccorso_medio.jpg
END:VEVENT
END:VCALENDAR