BEGIN:VCALENDAR
VERSION:2.0
PRODID:-//Confartigianato Brescia - ECPv6.15.20//NONSGML v1.0//EN
CALSCALE:GREGORIAN
METHOD:PUBLISH
X-WR-CALNAME:Confartigianato Brescia
X-ORIGINAL-URL:https://www.confartigianato.bs.it
X-WR-CALDESC:Eventi per Confartigianato Brescia
REFRESH-INTERVAL;VALUE=DURATION:PT1H
X-Robots-Tag:noindex
X-PUBLISHED-TTL:PT1H
BEGIN:VTIMEZONE
TZID:Europe/Rome
BEGIN:DAYLIGHT
TZOFFSETFROM:+0100
TZOFFSETTO:+0200
TZNAME:CEST
DTSTART:20240331T010000
END:DAYLIGHT
BEGIN:STANDARD
TZOFFSETFROM:+0200
TZOFFSETTO:+0100
TZNAME:CET
DTSTART:20241027T010000
END:STANDARD
BEGIN:DAYLIGHT
TZOFFSETFROM:+0100
TZOFFSETTO:+0200
TZNAME:CEST
DTSTART:20250330T010000
END:DAYLIGHT
BEGIN:STANDARD
TZOFFSETFROM:+0200
TZOFFSETTO:+0100
TZNAME:CET
DTSTART:20251026T010000
END:STANDARD
BEGIN:DAYLIGHT
TZOFFSETFROM:+0100
TZOFFSETTO:+0200
TZNAME:CEST
DTSTART:20260329T010000
END:DAYLIGHT
BEGIN:STANDARD
TZOFFSETFROM:+0200
TZOFFSETTO:+0100
TZNAME:CET
DTSTART:20261025T010000
END:STANDARD
END:VTIMEZONE
BEGIN:VEVENT
DTSTART;TZID=Europe/Rome:20250516T083000
DTEND;TZID=Europe/Rome:20250516T173000
DTSTAMP:20260422T103555
CREATED:20250402T054656Z
LAST-MODIFIED:20260211T091306Z
UID:53594-1747384200-1747416600@www.confartigianato.bs.it
SUMMARY:Formazione PREPOSTO
DESCRIPTION:Il Preposto è una figura all’interno dell’azienda che sovrintende l’attività lavorativa e garantisce il rispetto delle norme di sicurezza. Il corso per preposto è una formazione obbligatoria prevista dal D.lgs 81/08 e si rivolge alla formazione del Preposto\, ovvero a quella figura che nel contesto della sicurezza sul lavoro “sovrintende alla attività lavorativa e garantisce l’attuazione delle direttive ricevute\, controllandone la corretta esecuzione da parte dei lavoratori ed esercitando un funzionale potere di iniziativa”.
URL:https://www.confartigianato.bs.it/calendario-eventi/formazione-preposto/
CATEGORIES:Corsi,Corsi di sicurezza
ATTACH;FMTTYPE=image/jpeg:https://www.confartigianato.bs.it/wp-content/uploads/2025/09/Base_lavoratori_medio.jpg
END:VEVENT
END:VCALENDAR