BEGIN:VCALENDAR
VERSION:2.0
PRODID:-//Confartigianato Brescia - ECPv6.15.20//NONSGML v1.0//EN
CALSCALE:GREGORIAN
METHOD:PUBLISH
X-WR-CALNAME:Confartigianato Brescia
X-ORIGINAL-URL:https://www.confartigianato.bs.it
X-WR-CALDESC:Eventi per Confartigianato Brescia
REFRESH-INTERVAL;VALUE=DURATION:PT1H
X-Robots-Tag:noindex
X-PUBLISHED-TTL:PT1H
BEGIN:VTIMEZONE
TZID:Europe/Rome
BEGIN:DAYLIGHT
TZOFFSETFROM:+0100
TZOFFSETTO:+0200
TZNAME:CEST
DTSTART:20240331T010000
END:DAYLIGHT
BEGIN:STANDARD
TZOFFSETFROM:+0200
TZOFFSETTO:+0100
TZNAME:CET
DTSTART:20241027T010000
END:STANDARD
BEGIN:DAYLIGHT
TZOFFSETFROM:+0100
TZOFFSETTO:+0200
TZNAME:CEST
DTSTART:20250330T010000
END:DAYLIGHT
BEGIN:STANDARD
TZOFFSETFROM:+0200
TZOFFSETTO:+0100
TZNAME:CET
DTSTART:20251026T010000
END:STANDARD
BEGIN:DAYLIGHT
TZOFFSETFROM:+0100
TZOFFSETTO:+0200
TZNAME:CEST
DTSTART:20260329T010000
END:DAYLIGHT
BEGIN:STANDARD
TZOFFSETFROM:+0200
TZOFFSETTO:+0100
TZNAME:CET
DTSTART:20261025T010000
END:STANDARD
END:VTIMEZONE
BEGIN:VEVENT
DTSTART;VALUE=DATE:20250502
DTEND;VALUE=DATE:20250503
DTSTAMP:20260425T145620
CREATED:20250422T090933Z
LAST-MODIFIED:20250422T090933Z
UID:10003850-1746144000-1746230399@www.confartigianato.bs.it
SUMMARY:Uffici chiusi il 2 maggio per il ponte del 1° maggio
DESCRIPTION:Si comunica che venerdì 2 maggio 2025\, in occasione della festività del 1° maggio\, la sede centrale e gli uffici territoriali di Confartigianato Imprese Brescia e Lombardia Orientale resteranno chiusi. \nLe attività lavorative riprenderanno regolarmente lunedì 5 maggio.
URL:https://www.confartigianato.bs.it/calendario-eventi/uffici-chiusi-il-2-maggio-per-il-ponte-del-1-maggio/
CATEGORIES:Avvisi
ATTACH;FMTTYPE=image/jpeg:https://www.confartigianato.bs.it/wp-content/uploads/2023/01/CHIUSO.jpg
END:VEVENT
END:VCALENDAR