BEGIN:VCALENDAR
VERSION:2.0
PRODID:-//Confartigianato Brescia - ECPv6.15.20//NONSGML v1.0//EN
CALSCALE:GREGORIAN
METHOD:PUBLISH
X-WR-CALNAME:Confartigianato Brescia
X-ORIGINAL-URL:https://www.confartigianato.bs.it
X-WR-CALDESC:Eventi per Confartigianato Brescia
REFRESH-INTERVAL;VALUE=DURATION:PT1H
X-Robots-Tag:noindex
X-PUBLISHED-TTL:PT1H
BEGIN:VTIMEZONE
TZID:Europe/Rome
BEGIN:DAYLIGHT
TZOFFSETFROM:+0100
TZOFFSETTO:+0200
TZNAME:CEST
DTSTART:20230326T010000
END:DAYLIGHT
BEGIN:STANDARD
TZOFFSETFROM:+0200
TZOFFSETTO:+0100
TZNAME:CET
DTSTART:20231029T010000
END:STANDARD
BEGIN:DAYLIGHT
TZOFFSETFROM:+0100
TZOFFSETTO:+0200
TZNAME:CEST
DTSTART:20240331T010000
END:DAYLIGHT
BEGIN:STANDARD
TZOFFSETFROM:+0200
TZOFFSETTO:+0100
TZNAME:CET
DTSTART:20241027T010000
END:STANDARD
BEGIN:DAYLIGHT
TZOFFSETFROM:+0100
TZOFFSETTO:+0200
TZNAME:CEST
DTSTART:20250330T010000
END:DAYLIGHT
BEGIN:STANDARD
TZOFFSETFROM:+0200
TZOFFSETTO:+0100
TZNAME:CET
DTSTART:20251026T010000
END:STANDARD
END:VTIMEZONE
BEGIN:VEVENT
DTSTART;VALUE=DATE:20240808
DTEND;VALUE=DATE:20240829
DTSTAMP:20260426T043430
CREATED:20240722T083516Z
LAST-MODIFIED:20240806T102926Z
UID:10003197-1723075200-1724889599@www.confartigianato.bs.it
SUMMARY:Avviso di chiusura uffici – dall’8 al 28 agosto 2024
DESCRIPTION:Informiamo che da giovedì 8 a mercoledì 28 agosto i nostri uffici rimarranno chiusi.\nLe attività lavorative riprenderanno regolarmente giovedì 29 agosto 2024. \nLunedì 2 settembre\, l’ufficio di Orzinuovi rimarrà chiuso per la Festa del Santo Patrono. \nREPERIBILITÀ\nNei giorni di chiusura\, in caso di urgenza\, sarà possibile contattare il numero 030/3745500 dal lunedì al venerdì dalle ore 8:30 alle ore 12:30 (nella settimana dal 12/08/2024 al 16/08/2024 l’orario sarà il seguente: 8:00–9:30). Il servizio consentirà in particolare di inoltrare denunce di infortunio ed effettuare pratiche relative ai dipendenti nel rispetto dei termini previsti. \nPer l’assistenza sull’utilizzo della piattaforma per la fatturazione elettronica è disponibile il numero 030/3745501 dal lunedì al venerdì dalle ore 8:30 alle ore 10:00.
URL:https://www.confartigianato.bs.it/calendario-eventi/avviso-di-chiusura-uffici-dall8-al-28-agosto-2024/
CATEGORIES:Avvisi
ATTACH;FMTTYPE=image/jpeg:https://www.confartigianato.bs.it/wp-content/uploads/2024/07/chiusura_agosto.jpg
END:VEVENT
END:VCALENDAR