BEGIN:VCALENDAR
VERSION:2.0
PRODID:-//Confartigianato Brescia - ECPv6.15.20//NONSGML v1.0//EN
CALSCALE:GREGORIAN
METHOD:PUBLISH
X-WR-CALNAME:Confartigianato Brescia
X-ORIGINAL-URL:https://www.confartigianato.bs.it
X-WR-CALDESC:Eventi per Confartigianato Brescia
REFRESH-INTERVAL;VALUE=DURATION:PT1H
X-Robots-Tag:noindex
X-PUBLISHED-TTL:PT1H
BEGIN:VTIMEZONE
TZID:Europe/Rome
BEGIN:DAYLIGHT
TZOFFSETFROM:+0100
TZOFFSETTO:+0200
TZNAME:CEST
DTSTART:20250330T010000
END:DAYLIGHT
BEGIN:STANDARD
TZOFFSETFROM:+0200
TZOFFSETTO:+0100
TZNAME:CET
DTSTART:20251026T010000
END:STANDARD
BEGIN:DAYLIGHT
TZOFFSETFROM:+0100
TZOFFSETTO:+0200
TZNAME:CEST
DTSTART:20260329T010000
END:DAYLIGHT
BEGIN:STANDARD
TZOFFSETFROM:+0200
TZOFFSETTO:+0100
TZNAME:CET
DTSTART:20261025T010000
END:STANDARD
BEGIN:DAYLIGHT
TZOFFSETFROM:+0100
TZOFFSETTO:+0200
TZNAME:CEST
DTSTART:20270328T010000
END:DAYLIGHT
BEGIN:STANDARD
TZOFFSETFROM:+0200
TZOFFSETTO:+0100
TZNAME:CET
DTSTART:20271031T010000
END:STANDARD
END:VTIMEZONE
BEGIN:VEVENT
DTSTART;TZID=Europe/Rome:20260219T083000
DTEND;TZID=Europe/Rome:20260219T173000
DTSTAMP:20260424T023308
CREATED:20260105T085832Z
LAST-MODIFIED:20260211T091213Z
UID:58470-1771489800-1771522200@www.confartigianato.bs.it
SUMMARY:Formazione Carrelli elevatori
DESCRIPTION:Il corso\, conforme al D.Lgs. 81/2008 e al nuovo Accordo Stato-Regioni\, fornisce la formazione obbligatoria per operatori addetti alla conduzione di carrelli elevatori industriali semoventi. \nIl programma prevede una parte teorica e una pratica\, finalizzate a garantire l’uso sicuro ed efficiente delle attrezzature.
URL:https://www.confartigianato.bs.it/calendario-eventi/carroponte-carrelli-elevatori-2026-01/
CATEGORIES:Corsi,Corsi di sicurezza
ATTACH;FMTTYPE=image/jpeg:https://www.confartigianato.bs.it/wp-content/uploads/2025/04/Carrelli_elevatori_muletto.jpg
END:VEVENT
END:VCALENDAR