BEGIN:VCALENDAR
VERSION:2.0
PRODID:-//Confartigianato Brescia - ECPv6.15.20//NONSGML v1.0//EN
CALSCALE:GREGORIAN
METHOD:PUBLISH
X-WR-CALNAME:Confartigianato Brescia
X-ORIGINAL-URL:https://www.confartigianato.bs.it
X-WR-CALDESC:Eventi per Confartigianato Brescia
REFRESH-INTERVAL;VALUE=DURATION:PT1H
X-Robots-Tag:noindex
X-PUBLISHED-TTL:PT1H
BEGIN:VTIMEZONE
TZID:Europe/Rome
BEGIN:DAYLIGHT
TZOFFSETFROM:+0100
TZOFFSETTO:+0200
TZNAME:CEST
DTSTART:20250330T010000
END:DAYLIGHT
BEGIN:STANDARD
TZOFFSETFROM:+0200
TZOFFSETTO:+0100
TZNAME:CET
DTSTART:20251026T010000
END:STANDARD
BEGIN:DAYLIGHT
TZOFFSETFROM:+0100
TZOFFSETTO:+0200
TZNAME:CEST
DTSTART:20260329T010000
END:DAYLIGHT
BEGIN:STANDARD
TZOFFSETFROM:+0200
TZOFFSETTO:+0100
TZNAME:CET
DTSTART:20261025T010000
END:STANDARD
BEGIN:DAYLIGHT
TZOFFSETFROM:+0100
TZOFFSETTO:+0200
TZNAME:CEST
DTSTART:20270328T010000
END:DAYLIGHT
BEGIN:STANDARD
TZOFFSETFROM:+0200
TZOFFSETTO:+0100
TZNAME:CET
DTSTART:20271031T010000
END:STANDARD
END:VTIMEZONE
BEGIN:VEVENT
DTSTART;TZID=Europe/Rome:20260422T170000
DTEND;TZID=Europe/Rome:20260422T180000
DTSTAMP:20260422T025733
CREATED:20260407T132241Z
LAST-MODIFIED:20260407T132241Z
UID:10004134-1776877200-1776880800@www.confartigianato.bs.it
SUMMARY:Webinar: “Intelligenza artificiale e contenuti ingannevoli: riconoscimento e tutela legale”
DESCRIPTION:Il 22 aprile 2026\, alle ore 17:00\, innexHUB\, il Digital Innovation Hub di cui Confartigianato Imprese Brescia e Lombardia Orientale è socio fondatore\, organizza un webinar dedicato a uno dei temi più attuali per le imprese: l’impatto dell’intelligenza artificiale sulla diffusione di contenuti falsi. \nOggi fake news\, immagini fotorealistiche e deepfake possono essere creati in pochi secondi e diffusi rapidamente sui social\, con effetti concreti su reputazione e risultati aziendali. Il webinar aiuta a comprendere come nascono questi contenuti\, come riconoscerli e quali strumenti adottare per ridurre i rischi. \nCosa imparerai \n• le principali tecnologie alla base della disinformazione digitale;\n• i segnali di allerta per individuare contenuti ingannevoli;\n• i rischi operativi per le imprese e come prevenirli;\n• le responsabilità legali (civili\, penali e amministrative) legate alla diffusione di fake news;\n• gli obblighi previsti dalle normative europee (AI Act\, Digital Services Act) e dalla normativa italiana. \nA chi è rivolto\nImprenditori\, manager e membri di CdA coinvolti in strategia\, comunicazione e tutela della reputazione aziendale. \nProgramma \nSaluti di apertura: Michele Maltese\, General Manager Bizonweb srl e Consigliere Confapi Brescia e innexHub.\nIntervento: Matteo Piccinali\, Avvocato e Visiting Professor. \nPartecipazione gratuita previa iscrizione.
URL:https://www.confartigianato.bs.it/calendario-eventi/webinar-intelligenza-artificiale-e-contenuti-ingannevoli-riconoscimento-e-tutela-legale/
CATEGORIES:Eventi Gratuti
ATTACH;FMTTYPE=image/png:https://www.confartigianato.bs.it/wp-content/uploads/2026/04/webinar_ia.png
END:VEVENT
BEGIN:VEVENT
DTSTART;TZID=Europe/Rome:20260422T180000
DTEND;TZID=Europe/Rome:20260422T190000
DTSTAMP:20260422T025733
CREATED:20260415T075402Z
LAST-MODIFIED:20260415T075402Z
UID:10004136-1776880800-1776884400@www.confartigianato.bs.it
SUMMARY:Che design ha la leadership? Alla Design Week il fare impresa si racconta (meglio) davanti a un aperitivo
DESCRIPTION:C’è un modo nuovo di parlare di impresa. Meno formale\, più autentico. Più vicino alle persone. Ed è proprio da qui che parte “Che design ha la leadership?”\, l’iniziativa promossa da Confartigianato Lombardia in occasione della Milano Design Week\, in programma il 22 aprile dalle ore 18\, in collabroazione con i Movimenti Giovani Imprenditori e Donne Impresa\, nell’ambito del progetto Interreg MITICA\, presso lo showroom Flexstyle di Milano (via Gonzaga 7). \nUn appuntamento che rompe gli schemi tradizionali e sceglie una formula diversa: un talk ispirazionale sui nuovi modelli di leadership e sul change management\, seguito da un momento informale di networking.\nAl centro la riflessione sulle forme di leadership\, per ribadire il legame sempre più stretto tra cultura del progetto e cultura d’impresa. \nAd aprire i lavori sarà il Presidente di Confartigianato Brescia e Lombardia Eugenio Massetti. Seguirà l’intervento keynote di Susanna Martucci\, CEO e fondatrice di Alisea srl – società benefit\, che guiderà il pubblico in un viaggio tra leadership\, design e futuro del fare impresa. \nIl cuore dell’incontro sarà poi una conversazione a più voci con giovani imprenditori\, imprenditrici\, mondo accademico con il prof. Gabriele Boccoli\, dipartimento di Ingegneria Gestionale del Politecnico di Milano\, e gli studenti su visione imprenditoriale\, gestione delle persone e aspettative dei giovani per un quadro articolato e contemporaneo della leadership. Non un modello unico\, ma un mosaico di esperienze. Non una risposta definitiva\, ma una direzione condivisa. \nIl dialogo si aprirà anche al pubblico\, con l’obiettivo di costruire uno “sguardo comune sul futuro” fatto di parole chiave – impresa\, visione\, persone\, tempo – capaci di raccontare l’evoluzione del fare impresa oggi\, guidati da Francesco Figini e Silvia Dozio\, rispettivamente Presidente del Movimento Giovani Imprenditori e Donne Impresa di Confartigianato Lombardia. \nA seguire\, l’aperitivo: lo spazio in cui le idee continuano a circolare\, le relazioni si consolidano e l’impresa torna a essere\, prima di tutto\, una storia di persone. I presenti saranno invitati a creare insieme un oggetto unico\, personalizzando con la propria “parola-chiave della leaderhip” un puff firmato Flexstyle. Perché\, come suggerisce il titolo dell’evento\, il design della leadership non si definisce solo in modelli teorici\, quanto piuttosto attraverso il confronto. \nRegistrati qui \nScarica la locandina
URL:https://www.confartigianato.bs.it/calendario-eventi/che-design-ha-la-leadership-alla-design-week-il-fare-impresa-si-racconta-meglio-davanti-a-un-aperitivo/
CATEGORIES:Eventi Gratuti
ATTACH;FMTTYPE=image/jpeg:https://www.confartigianato.bs.it/wp-content/uploads/2026/04/evento_design.jpg
END:VEVENT
END:VCALENDAR