BEGIN:VCALENDAR
VERSION:2.0
PRODID:-//Confartigianato Brescia - ECPv6.15.20//NONSGML v1.0//EN
CALSCALE:GREGORIAN
METHOD:PUBLISH
X-WR-CALNAME:Confartigianato Brescia
X-ORIGINAL-URL:https://www.confartigianato.bs.it
X-WR-CALDESC:Eventi per Confartigianato Brescia
REFRESH-INTERVAL;VALUE=DURATION:PT1H
X-Robots-Tag:noindex
X-PUBLISHED-TTL:PT1H
BEGIN:VTIMEZONE
TZID:Europe/Rome
BEGIN:DAYLIGHT
TZOFFSETFROM:+0100
TZOFFSETTO:+0200
TZNAME:CEST
DTSTART:20250330T010000
END:DAYLIGHT
BEGIN:STANDARD
TZOFFSETFROM:+0200
TZOFFSETTO:+0100
TZNAME:CET
DTSTART:20251026T010000
END:STANDARD
BEGIN:DAYLIGHT
TZOFFSETFROM:+0100
TZOFFSETTO:+0200
TZNAME:CEST
DTSTART:20260329T010000
END:DAYLIGHT
BEGIN:STANDARD
TZOFFSETFROM:+0200
TZOFFSETTO:+0100
TZNAME:CET
DTSTART:20261025T010000
END:STANDARD
BEGIN:DAYLIGHT
TZOFFSETFROM:+0100
TZOFFSETTO:+0200
TZNAME:CEST
DTSTART:20270328T010000
END:DAYLIGHT
BEGIN:STANDARD
TZOFFSETFROM:+0200
TZOFFSETTO:+0100
TZNAME:CET
DTSTART:20271031T010000
END:STANDARD
END:VTIMEZONE
BEGIN:VEVENT
DTSTART;TZID=Europe/Rome:20260421T140000
DTEND;TZID=Europe/Rome:20260421T170000
DTSTAMP:20260421T204203
CREATED:20260414T143214Z
LAST-MODIFIED:20260414T143344Z
UID:10004135-1776780000-1776790800@www.confartigianato.bs.it
SUMMARY:L’AI a valore umano\, Confartigianato Comunicazione in convegno a Trento sul futuro del settore
DESCRIPTION:Il 21 aprile\, alle ore 14:00\, il Castello del Buonconsiglio di Trento ospiterà Ai a valore umano\, il convegno di Confartigianato Comunicazione dedicato all’impatto dell’intelligenza artificiale sulle micro e piccole imprese della comunicazione. \nL’intelligenza artificiale non è semplicemente un nuovo software\, bensì un cambiamento profondo nei modelli produttivi. Per le micro e piccole imprese della comunicazione e\, più in generale\, per il sistema del Made in Italy\, la sua adozione rappresenta oggi un passaggio delicato\, che espone a rischi concreti ma anche a opportunità rilevanti. \nDa un lato\, esiste il rischio di una progressiva dispersione del know-how. L’uso non governato di piattaforme di intelligenza artificiale\, spesso sviluppate e addestrate fuori dall’Unione Europea\, comporta il trasferimento involontario di dati\, processi\, stili e competenze distintive. In questo modo\, il patrimonio creativo e produttivo italiano che caratterizza il Made in Italy rischia di alimentare gratuitamente strumenti di AI che verranno poi utilizzati per replicarne il valore su scala globale\, riducendo il vantaggio competitivo delle nostre imprese. \nDall’altro lato\, se utilizzata con consapevolezza\, l’AI può diventare uno strumento di rafforzamento del modello artigiano: aumentare la produttività\, liberare tempo dalle attività ripetitive e rendere possibile una personalizzazione su larga scala\, anche per imprese di dimensioni molto contenute. \nPer la partecipazione al Convegno\, sia in presenza che da remoto\, è obbligatoria la registrazione a questo LINK.
URL:https://www.confartigianato.bs.it/calendario-eventi/lai-a-valore-umano-confartigianato-comunicazione-in-convegno-a-trento-sul-futuro-del-settore/
CATEGORIES:Eventi Gratuti
ATTACH;FMTTYPE=image/jpeg:https://www.confartigianato.bs.it/wp-content/uploads/2026/04/ai_nazionale.jpg
END:VEVENT
BEGIN:VEVENT
DTSTART;TZID=Europe/Rome:20260421T163000
DTEND;TZID=Europe/Rome:20260421T193000
DTSTAMP:20260421T204203
CREATED:20260102T095238Z
LAST-MODIFIED:20260211T091210Z
UID:10004037-1776789000-1776799800@www.confartigianato.bs.it
SUMMARY:Aggiornamento sicurezza lavoratori
DESCRIPTION:Il corso si rivolge ai lavoratori di aziende a rischio basso\, medio e alto ed è valido come aggiornamento periodico ai sensi dell’Accordo Stato Regioni del 21 gennaio 2011\, repertorio atti n. 221/CSR. \nI lavoratori con il CCNL del settore edile devono frequentare un corso specifico a cadenza triennale. \nInoltre\, sono riconosciuti i crediti formativi ai sensi dell’Allegato III dell’Accordo Stato Regioni del 7 luglio 2016 per preposti.
URL:https://www.confartigianato.bs.it/calendario-eventi/aggiornamento-sicurezza-lavoratori-2026-8/
CATEGORIES:Corsi,Corsi di sicurezza
ATTACH;FMTTYPE=image/jpeg:https://www.confartigianato.bs.it/wp-content/uploads/2025/03/Aggiornamento-sicurezza-lavoratori_alto.jpg
END:VEVENT
BEGIN:VEVENT
DTSTART;TZID=Europe/Rome:20260421T170000
DTEND;TZID=Europe/Rome:20260421T210000
DTSTAMP:20260421T204203
CREATED:20260102T081930Z
LAST-MODIFIED:20260211T091210Z
UID:10004014-1776790800-1776805200@www.confartigianato.bs.it
SUMMARY:Formazione RSPP datore di lavoro - Modulo chimico
DESCRIPTION:Il corso è rivolto agli RSPP che operano nel settore chimico e affrontano i rischi specifici legati a sostanze pericolose\, processi industriali e prevenzione.
URL:https://www.confartigianato.bs.it/calendario-eventi/formazione-rspp-datore-di-lavoro-modulo-chimico-2026/
CATEGORIES:Corsi,Corsi di sicurezza
ATTACH;FMTTYPE=image/jpeg:https://www.confartigianato.bs.it/wp-content/uploads/2021/03/corso_sicurezza_lavoro900_400.jpg
END:VEVENT
END:VCALENDAR